BEGIN:VCALENDAR
VERSION:2.0
PRODID:-//Jeugdsoos Amicale - ECPv6.15.20//NONSGML v1.0//EN
CALSCALE:GREGORIAN
METHOD:PUBLISH
X-ORIGINAL-URL:https://www.jeugdsoosamicale.nl
X-WR-CALDESC:Evenementen voor Jeugdsoos Amicale
REFRESH-INTERVAL;VALUE=DURATION:PT1H
X-Robots-Tag:noindex
X-PUBLISHED-TTL:PT1H
BEGIN:VTIMEZONE
TZID:Europe/Amsterdam
BEGIN:DAYLIGHT
TZOFFSETFROM:+0100
TZOFFSETTO:+0200
TZNAME:CEST
DTSTART:20250330T010000
END:DAYLIGHT
BEGIN:STANDARD
TZOFFSETFROM:+0200
TZOFFSETTO:+0100
TZNAME:CET
DTSTART:20251026T010000
END:STANDARD
BEGIN:DAYLIGHT
TZOFFSETFROM:+0100
TZOFFSETTO:+0200
TZNAME:CEST
DTSTART:20260329T010000
END:DAYLIGHT
BEGIN:STANDARD
TZOFFSETFROM:+0200
TZOFFSETTO:+0100
TZNAME:CET
DTSTART:20261025T010000
END:STANDARD
BEGIN:DAYLIGHT
TZOFFSETFROM:+0100
TZOFFSETTO:+0200
TZNAME:CEST
DTSTART:20270328T010000
END:DAYLIGHT
BEGIN:STANDARD
TZOFFSETFROM:+0200
TZOFFSETTO:+0100
TZNAME:CET
DTSTART:20271031T010000
END:STANDARD
END:VTIMEZONE
BEGIN:VEVENT
DTSTART;TZID=Europe/Amsterdam:20260103T200000
DTEND;TZID=Europe/Amsterdam:20260104T013000
DTSTAMP:20260425T180555
CREATED:20251209T153226Z
LAST-MODIFIED:20251211T074440Z
UID:6913-1767470400-1767490200@www.jeugdsoosamicale.nl
SUMMARY:Prinsenbal 2026
DESCRIPTION:
URL:https://www.jeugdsoosamicale.nl/evenement/prinsenbal-2026/
LOCATION:Jeugdsoos Amicale\, Kloosterstraat 32\, Herkenbosch\, 6075HB\, Nederland
CATEGORIES:Carnaval
ATTACH;FMTTYPE=image/png:https://www.jeugdsoosamicale.nl/wp-content/uploads/2019/12/Carnavals_logo.png
ORGANIZER;CN="Jeugdsoos Amicale":MAILTO:info@jeugdsoosamicale.nl
END:VEVENT
BEGIN:VEVENT
DTSTART;TZID=Europe/Amsterdam:20260208T103000
DTEND;TZID=Europe/Amsterdam:20260208T180000
DTSTAMP:20260425T180555
CREATED:20251209T153507Z
LAST-MODIFIED:20251211T074356Z
UID:6915-1770546600-1770573600@www.jeugdsoosamicale.nl
SUMMARY:Hirkebosjer Herenzitting 2026
DESCRIPTION:
URL:https://www.jeugdsoosamicale.nl/evenement/hirkebosjer-herenzitting-2026/
LOCATION:Jeugdsoos Amicale\, Kloosterstraat 32\, Herkenbosch\, 6075HB\, Nederland
CATEGORIES:Carnaval
ATTACH;FMTTYPE=image/jpeg:https://www.jeugdsoosamicale.nl/wp-content/uploads/2025/12/Herenzitting-2026.jpg
ORGANIZER;CN="Jeugdsoos Amicale":MAILTO:info@jeugdsoosamicale.nl
END:VEVENT
BEGIN:VEVENT
DTSTART;TZID=Europe/Amsterdam:20260212T200000
DTEND;TZID=Europe/Amsterdam:20260213T013000
DTSTAMP:20260425T180555
CREATED:20251209T153946Z
LAST-MODIFIED:20251211T074458Z
UID:6923-1770926400-1770946200@www.jeugdsoosamicale.nl
SUMMARY:Aad Wieverbal 2026
DESCRIPTION:
URL:https://www.jeugdsoosamicale.nl/evenement/aad-wieverbal-2026/
LOCATION:Jeugdsoos Amicale\, Kloosterstraat 32\, Herkenbosch\, 6075HB\, Nederland
CATEGORIES:Carnaval
ATTACH;FMTTYPE=image/png:https://www.jeugdsoosamicale.nl/wp-content/uploads/2019/12/Carnavals_logo.png
ORGANIZER;CN="Jeugdsoos Amicale":MAILTO:info@jeugdsoosamicale.nl
END:VEVENT
BEGIN:VEVENT
DTSTART;TZID=Europe/Amsterdam:20260213T194100
DTEND;TZID=Europe/Amsterdam:20260214T013000
DTSTAMP:20260425T180555
CREATED:20251209T153909Z
LAST-MODIFIED:20251211T074507Z
UID:6921-1771011660-1771032600@www.jeugdsoosamicale.nl
SUMMARY:Vastelaovend 2026 Receptie J.C.V. De Doale-Eier mit de Roerdassen
DESCRIPTION:Op vriedig aovend beeje veer `t prinsepaar van J.C.V. de Doale-Eier ein receptie aan.\nAanvang 19:41 in ós feestpaviljoen.
URL:https://www.jeugdsoosamicale.nl/evenement/vastelaovend-2026-receptie-j-c-v-de-doale-eier/
LOCATION:Jeugdsoos Amicale\, Kloosterstraat 32\, Herkenbosch\, 6075HB\, Nederland
CATEGORIES:Carnaval
ATTACH;FMTTYPE=image/png:https://www.jeugdsoosamicale.nl/wp-content/uploads/2019/12/Carnavals_logo.png
ORGANIZER;CN="Jeugdsoos Amicale":MAILTO:info@jeugdsoosamicale.nl
END:VEVENT
BEGIN:VEVENT
DTSTART;TZID=Europe/Amsterdam:20260214T140000
DTEND;TZID=Europe/Amsterdam:20260214T180000
DTSTAMP:20260425T180555
CREATED:20251209T154123Z
LAST-MODIFIED:20251211T074513Z
UID:6926-1771077600-1771092000@www.jeugdsoosamicale.nl
SUMMARY:Vastelaovend 2026 Nao de optoch
DESCRIPTION:Auch dit jaor zal de kinjeroptoch waere ontbonje veur biej de Soos. Daonao zal de priesoetreiking volgen in ós feestpaviljoen.\nAanvang: 14:00 oer
URL:https://www.jeugdsoosamicale.nl/evenement/vastelaovend-2026-nao-de-optoch/
LOCATION:Jeugdsoos Amicale\, Kloosterstraat 32\, Herkenbosch\, 6075HB\, Nederland
CATEGORIES:Carnaval
ATTACH;FMTTYPE=image/png:https://www.jeugdsoosamicale.nl/wp-content/uploads/2019/12/Carnavals_logo.png
ORGANIZER;CN="Jeugdsoos Amicale":MAILTO:info@jeugdsoosamicale.nl
END:VEVENT
BEGIN:VEVENT
DTSTART;TZID=Europe/Amsterdam:20260214T200000
DTEND;TZID=Europe/Amsterdam:20260215T013000
DTSTAMP:20260425T180555
CREATED:20251209T154409Z
LAST-MODIFIED:20251211T074518Z
UID:6929-1771099200-1771119000@www.jeugdsoosamicale.nl
SUMMARY:Vastelaovend 2026 Artiestengala
DESCRIPTION:Op zaoterdigaovend trikke veer veur ug ein blik Limburgse artieste aop om de vingers biej aaf te lekken\, dus zorg det geer d`r biej zeet!\nmit:\n Björn en Mieke Sjpringlaevend Beppie Kraft Patrick Roger\n \n Kloosterstraat 32\, Herkenbosch 20.00u GRATIS (zonder tickets)
URL:https://www.jeugdsoosamicale.nl/evenement/vastelaovend-2026-artiestengala/
LOCATION:Jeugdsoos Amicale\, Kloosterstraat 32\, Herkenbosch\, 6075HB\, Nederland
CATEGORIES:Carnaval
ATTACH;FMTTYPE=image/png:https://www.jeugdsoosamicale.nl/wp-content/uploads/2019/12/Carnavals_logo.png
ORGANIZER;CN="Jeugdsoos Amicale":MAILTO:info@jeugdsoosamicale.nl
END:VEVENT
BEGIN:VEVENT
DTSTART;TZID=Europe/Amsterdam:20260215T190000
DTEND;TZID=Europe/Amsterdam:20260216T013000
DTSTAMP:20260425T180555
CREATED:20250226T200108Z
LAST-MODIFIED:20251211T074523Z
UID:6861-1771182000-1771205400@www.jeugdsoosamicale.nl
SUMMARY:Vastelaovend 2026 Receptie Boerebroelof
DESCRIPTION:Aug dit jaor mogen veer de Boerefemilie weer ontvangen veur heur recepetie.
URL:https://www.jeugdsoosamicale.nl/evenement/vastelaovend-2026-receptie-boerebroelof/
LOCATION:Jeugdsoos Amicale\, Kloosterstraat 32\, Herkenbosch\, 6075HB\, Nederland
CATEGORIES:Carnaval
ATTACH;FMTTYPE=image/png:https://www.jeugdsoosamicale.nl/wp-content/uploads/2019/12/Carnavals_logo.png
ORGANIZER;CN="Jeugdsoos Amicale":MAILTO:info@jeugdsoosamicale.nl
END:VEVENT
BEGIN:VEVENT
DTSTART;TZID=Europe/Amsterdam:20260216T200000
DTEND;TZID=Europe/Amsterdam:20260217T013000
DTSTAMP:20260425T180555
CREATED:20251209T154601Z
LAST-MODIFIED:20251211T074527Z
UID:6931-1771272000-1771291800@www.jeugdsoosamicale.nl
SUMMARY:Ontgreune Maondig CV D’n Doal
DESCRIPTION:
URL:https://www.jeugdsoosamicale.nl/evenement/ontgreune-maondig-cv-dn-doal/
LOCATION:Jeugdsoos Amicale\, Kloosterstraat 32\, Herkenbosch\, 6075HB\, Nederland
CATEGORIES:Carnaval
ATTACH;FMTTYPE=image/png:https://www.jeugdsoosamicale.nl/wp-content/uploads/2019/12/Carnavals_logo.png
ORGANIZER;CN="Jeugdsoos Amicale":MAILTO:info@jeugdsoosamicale.nl
END:VEVENT
BEGIN:VEVENT
DTSTART;TZID=Europe/Amsterdam:20260217T190000
DTEND;TZID=Europe/Amsterdam:20260217T235900
DTSTAMP:20260425T180555
CREATED:20251209T154658Z
LAST-MODIFIED:20251211T074533Z
UID:6936-1771354800-1771372740@www.jeugdsoosamicale.nl
SUMMARY:Afterparty feest op ’t plein mit Nachtvlinders
DESCRIPTION:
URL:https://www.jeugdsoosamicale.nl/evenement/afterparty-feest-op-t-plein-mit-nachtvlinders/
LOCATION:Jeugdsoos Amicale\, Kloosterstraat 32\, Herkenbosch\, 6075HB\, Nederland
CATEGORIES:Carnaval
ATTACH;FMTTYPE=image/png:https://www.jeugdsoosamicale.nl/wp-content/uploads/2019/12/Carnavals_logo.png
ORGANIZER;CN="Jeugdsoos Amicale":MAILTO:info@jeugdsoosamicale.nl
END:VEVENT
BEGIN:VEVENT
DTSTART;TZID=Europe/Amsterdam:20260314T200000
DTEND;TZID=Europe/Amsterdam:20260315T013000
DTSTAMP:20260425T180555
CREATED:20251209T154959Z
LAST-MODIFIED:20251210T112607Z
UID:6938-1773518400-1773538200@www.jeugdsoosamicale.nl
SUMMARY:Jubileums reunie J.C.V. De Doale-Eier
DESCRIPTION:
URL:https://www.jeugdsoosamicale.nl/evenement/jubileums-reunie-j-c-v-de-doale-eier/
LOCATION:Jeugdsoos Amicale\, Kloosterstraat 32\, Herkenbosch\, 6075HB\, Nederland
CATEGORIES:Carnaval
ATTACH;FMTTYPE=image/png:https://www.jeugdsoosamicale.nl/wp-content/uploads/2019/12/Carnavals_logo.png
ORGANIZER;CN="Jeugdsoos Amicale":MAILTO:info@jeugdsoosamicale.nl
END:VEVENT
BEGIN:VEVENT
DTSTART;TZID=Europe/Amsterdam:20261128T200000
DTEND;TZID=Europe/Amsterdam:20261129T013000
DTSTAMP:20260425T180555
CREATED:20251210T113712Z
LAST-MODIFIED:20251210T113746Z
UID:6954-1795896000-1795915800@www.jeugdsoosamicale.nl
SUMMARY:Vrouwluujzitting
DESCRIPTION:
URL:https://www.jeugdsoosamicale.nl/evenement/vrouwluujzitting-2/
LOCATION:Jeugdsoos Amicale\, Kloosterstraat 32\, Herkenbosch\, 6075HB\, Nederland
CATEGORIES:Carnaval
ATTACH;FMTTYPE=image/png:https://www.jeugdsoosamicale.nl/wp-content/uploads/2019/12/Carnavals_logo.png
ORGANIZER;CN="Jeugdsoos Amicale":MAILTO:info@jeugdsoosamicale.nl
END:VEVENT
END:VCALENDAR